BEGIN:VCALENDAR
VERSION:2.0
PRODID:-//BERMONDSEY.LONDON - ECPv6.15.20//NONSGML v1.0//EN
CALSCALE:GREGORIAN
METHOD:PUBLISH
X-WR-CALNAME:BERMONDSEY.LONDON
X-ORIGINAL-URL:https://bermondsey.london
X-WR-CALDESC:Events for BERMONDSEY.LONDON
REFRESH-INTERVAL;VALUE=DURATION:PT1H
X-Robots-Tag:noindex
X-PUBLISHED-TTL:PT1H
BEGIN:VTIMEZONE
TZID:Europe/London
BEGIN:DAYLIGHT
TZOFFSETFROM:+0000
TZOFFSETTO:+0100
TZNAME:BST
DTSTART:20230326T010000
END:DAYLIGHT
BEGIN:STANDARD
TZOFFSETFROM:+0100
TZOFFSETTO:+0000
TZNAME:GMT
DTSTART:20231029T010000
END:STANDARD
BEGIN:DAYLIGHT
TZOFFSETFROM:+0000
TZOFFSETTO:+0100
TZNAME:BST
DTSTART:20240331T010000
END:DAYLIGHT
BEGIN:STANDARD
TZOFFSETFROM:+0100
TZOFFSETTO:+0000
TZNAME:GMT
DTSTART:20241027T010000
END:STANDARD
BEGIN:DAYLIGHT
TZOFFSETFROM:+0000
TZOFFSETTO:+0100
TZNAME:BST
DTSTART:20250330T010000
END:DAYLIGHT
BEGIN:STANDARD
TZOFFSETFROM:+0100
TZOFFSETTO:+0000
TZNAME:GMT
DTSTART:20251026T010000
END:STANDARD
BEGIN:DAYLIGHT
TZOFFSETFROM:+0000
TZOFFSETTO:+0100
TZNAME:BST
DTSTART:20260329T010000
END:DAYLIGHT
BEGIN:STANDARD
TZOFFSETFROM:+0100
TZOFFSETTO:+0000
TZNAME:GMT
DTSTART:20261025T010000
END:STANDARD
END:VTIMEZONE
BEGIN:VEVENT
DTSTART;TZID=Europe/London:20250301T100000
DTEND;TZID=Europe/London:20250301T160000
DTSTAMP:20260421T012649
CREATED:20250225T141400Z
LAST-MODIFIED:20250225T141400Z
UID:962-1740823200-1740844800@bermondsey.london
SUMMARY:Young Traders Market on Saturdays
DESCRIPTION:The Blue Market and National Traders Markets Federation has teamed to host a series of Young Traders Market events in Bermondsey. This is an opportunity to visit the stalls of the new generation of market traders offering crafts\, food\, fashion and more. \nThis is an opportunity to discover unique products and a new generation of market traders. You will find a diversity of merchandise\,  from handmade crafts to street food\, while helping young traders grow their businesses. \nEnjoy a vibrant community atmosphere and be part of a project empowering young talent.Don’t miss the chance to shop\, connect and support the next generation of entrepreneurs at the Young Traders Market events. \nYoung Traders Market Dates\nRunning every first Saturday of the month from March to July at The Blue Market \n\nSaturday 1st March 2025\nSaturday 5th April 2025\nSaturday 3rd May 2025\nSaturday 7th June 2025\nSaturday 5th July 2025\n\nFree entry\, everyone welcome! \nOpportunity to trade\nAre you a young trader aged 16-30 years old? Interested in taking part and get free pitch and gazebo? Visit our website to apply: \nYoung Traders Market 2025
URL:https://bermondsey.london/event/young-traders-market-on-saturdays/
LOCATION:The Blue Market\, Market Place\, London\, SE16 3UQ\, United Kingdom
ATTACH;FMTTYPE=image/jpeg:https://bermondsey.london/wp-content/uploads/2025/02/Young-Traders-Market-2025-Southwark-Presents-Banner.jpg
ORGANIZER;CN="The Blue Market":MAILTO:info@thebluemarket.co.uk
END:VEVENT
BEGIN:VEVENT
DTSTART;TZID=Europe/London:20241207T120000
DTEND;TZID=Europe/London:20241207T160000
DTSTAMP:20260421T012649
CREATED:20250417T113858Z
LAST-MODIFIED:20250417T113858Z
UID:1219-1733572800-1733587200@bermondsey.london
SUMMARY:Bermondsey Winter Fair 2024
DESCRIPTION:Come and celebrate the festive season at The Blue Market Place with a day of fun\, free seasonal activities for all ages! From 12pm to 4pm\, enjoy Christmas carols\, street performers\, wreath-making\, party games\, Christmas shopping\, and more. It’s a joyful day for the whole community—everyone’s welcome! \nAbout the Winter FairThe Blue Winter Fair is a much-loved annual event that kicks off December with festive cheer while supporting our fantastic local shops and businesses. Organised by Blue Bermondsey BID\, a non-profit network championing the local business community\, the fair brings everyone together for a day of celebration. \nThis year\, we’re excited to be teaming up with Rouel Road TRA to host a free Christmas Party for residents. We’re also partnering with Big Local Works and ReLondon to launch ‘Greening the Blue’\, a new addition featuring fun\, family-friendly environmental activities. \nExpect the return of much-loved favourites like the Custard Storm Circus\, roaming Father Christmas\, wreath-making with our Art Elves\, and heart-warming performances by choirs from St. James Church and Boutcher Primary School.
URL:https://bermondsey.london/event/bermondsey-winter-fair-2024/
LOCATION:The Blue Market\, Market Place\, London\, SE16 3UQ\, United Kingdom
CATEGORIES:Bermondsey Cultural Events
ATTACH;FMTTYPE=image/png:https://bermondsey.london/wp-content/uploads/2025/04/Winter-fair-2024-eventbrite.png
END:VEVENT
BEGIN:VEVENT
DTSTART;TZID=Europe/London:20241026T120000
DTEND;TZID=Europe/London:20241026T150000
DTSTAMP:20260421T012649
CREATED:20241020T100834Z
LAST-MODIFIED:20250417T101354Z
UID:1192-1729944000-1729954800@bermondsey.london
SUMMARY:Halloween Bermondsey\, spook-tacular!
DESCRIPTION:Celebrate Halloween in The Blue – Saturday\, 26th October 2024Join us for a spook-tacular afternoon at The Blue Market from 12 noon to 3pm! \nGet into the Halloween spirit with an afternoon of free\, fun-filled family activities for all ages. Mark your calendars and come along for a day bursting with festive creativity and spooky surprises! \n\n🎃 Free Halloween Pumpkin Carving WorkshopBring the whole family to our Halloween-themed market stall for a hands-on pumpkin carving experience! Each family can choose a pumpkin to turn into their very own Jack-o’-Lantern masterpiece. Our friendly artists will be there to help every step of the way – perfect for all ages\, even the littlest ghouls. \nPlease note: One pumpkin per family\, while stocks last! \n\n🎨 Free Face PaintingComplete your Halloween look with a visit to our face painting station! Our talented face painters will transform you into your favourite Halloween character – from spooky skeletons and witches to adorable pumpkins and more. It’s fun\, it’s festive\, and it’s completely free! \n\nCome dressed in your best costume and join us for a frightfully good time at The Blue Market!
URL:https://bermondsey.london/event/halloween-bermondsey-spook-tacular/
LOCATION:The Blue Market\, Market Place\, London\, SE16 3UQ\, United Kingdom
CATEGORIES:Bermondsey Cultural Events,Market
ATTACH;FMTTYPE=image/jpeg:https://bermondsey.london/wp-content/uploads/2025/04/Halloween-in-the-blue.jpg
ORGANIZER;CN="Blue Bermondsey":MAILTO:media@bluebermondsey.co.uk
END:VEVENT
END:VCALENDAR