BEGIN:VCALENDAR
VERSION:2.0
PRODID:-//BERMONDSEY.LONDON - ECPv6.15.20//NONSGML v1.0//EN
CALSCALE:GREGORIAN
METHOD:PUBLISH
X-WR-CALNAME:BERMONDSEY.LONDON
X-ORIGINAL-URL:https://bermondsey.london
X-WR-CALDESC:Events for BERMONDSEY.LONDON
REFRESH-INTERVAL;VALUE=DURATION:PT1H
X-Robots-Tag:noindex
X-PUBLISHED-TTL:PT1H
BEGIN:VTIMEZONE
TZID:Europe/London
BEGIN:DAYLIGHT
TZOFFSETFROM:+0000
TZOFFSETTO:+0100
TZNAME:BST
DTSTART:20230326T010000
END:DAYLIGHT
BEGIN:STANDARD
TZOFFSETFROM:+0100
TZOFFSETTO:+0000
TZNAME:GMT
DTSTART:20231029T010000
END:STANDARD
BEGIN:DAYLIGHT
TZOFFSETFROM:+0000
TZOFFSETTO:+0100
TZNAME:BST
DTSTART:20240331T010000
END:DAYLIGHT
BEGIN:STANDARD
TZOFFSETFROM:+0100
TZOFFSETTO:+0000
TZNAME:GMT
DTSTART:20241027T010000
END:STANDARD
BEGIN:DAYLIGHT
TZOFFSETFROM:+0000
TZOFFSETTO:+0100
TZNAME:BST
DTSTART:20250330T010000
END:DAYLIGHT
BEGIN:STANDARD
TZOFFSETFROM:+0100
TZOFFSETTO:+0000
TZNAME:GMT
DTSTART:20251026T010000
END:STANDARD
BEGIN:DAYLIGHT
TZOFFSETFROM:+0000
TZOFFSETTO:+0100
TZNAME:BST
DTSTART:20260329T010000
END:DAYLIGHT
BEGIN:STANDARD
TZOFFSETFROM:+0100
TZOFFSETTO:+0000
TZNAME:GMT
DTSTART:20261025T010000
END:STANDARD
END:VTIMEZONE
BEGIN:VEVENT
DTSTART;TZID=Europe/London:20250620T120000
DTEND;TZID=Europe/London:20250622T180000
DTSTAMP:20260421T000612
CREATED:20250528T143249Z
LAST-MODIFIED:20250528T143249Z
UID:1445-1750420800-1750615200@bermondsey.london
SUMMARY:Drawing Exhibition 2025 – Coleman Projects
DESCRIPTION:Coleman Project Space is delighted to announce the gallery’s first annual drawing exhibition\, which brings together six contemporary artists whose work repositions drawing as an expanded multidisciplinary field. \nHeavenly Skeletons is a dynamic investigation of how drawing translates abstract concepts into tangible form – how it becomes a reflection of reality\, a method of thought\, and an intentional act of making \nThe selected artists engage with drawing as a form of material thinking – spatial\, physical\, and reflexive. Their approaches are materially diverse\, rooted in traditional mark-making as well as sculpture\, time-based media\, and installation. Yet all share a sensibility to drawing as a live\, responsive\, and often urgent creative act\, driven by the larger questions the artists are exploring in their individual practices\, where drawing is neither sketch nor scaffold; it is the thing itself – reconfigured\, looped and performed.
URL:https://bermondsey.london/event/drawing-exhibition-2025-coleman-projects-4/
LOCATION:Coleman Gallery\, 94 Webster Rd\, SE16 4DF\, United Kingdom
CATEGORIES:Bermondsey Cultural Events
ATTACH;FMTTYPE=image/jpeg:https://bermondsey.london/wp-content/uploads/2025/05/Johnstrutton.jpg
END:VEVENT
BEGIN:VEVENT
DTSTART;TZID=Europe/London:20250613T120000
DTEND;TZID=Europe/London:20250615T180000
DTSTAMP:20260421T000612
CREATED:20250528T142753Z
LAST-MODIFIED:20250528T142753Z
UID:1442-1749816000-1750010400@bermondsey.london
SUMMARY:Drawing Exhibition 2025 – Coleman Projects
DESCRIPTION:Coleman Project Space is delighted to announce the gallery’s first annual drawing exhibition\, which brings together six contemporary artists whose work repositions drawing as an expanded multidisciplinary field. \nHeavenly Skeletons is a dynamic investigation of how drawing translates abstract concepts into tangible form – how it becomes a reflection of reality\, a method of thought\, and an intentional act of making \nThe selected artists engage with drawing as a form of material thinking – spatial\, physical\, and reflexive. Their approaches are materially diverse\, rooted in traditional mark-making as well as sculpture\, time-based media\, and installation. Yet all share a sensibility to drawing as a live\, responsive\, and often urgent creative act\, driven by the larger questions the artists are exploring in their individual practices\, where drawing is neither sketch nor scaffold; it is the thing itself – reconfigured\, looped and performed.
URL:https://bermondsey.london/event/drawing-exhibition-2025-coleman-projects-3/
LOCATION:Coleman Gallery\, 94 Webster Rd\, SE16 4DF\, United Kingdom
CATEGORIES:Bermondsey Cultural Events
ATTACH;FMTTYPE=image/jpeg:https://bermondsey.london/wp-content/uploads/2025/05/Charlotte.jpg
END:VEVENT
BEGIN:VEVENT
DTSTART;TZID=Europe/London:20250607T100000
DTEND;TZID=Europe/London:20250607T160000
DTSTAMP:20260421T000612
CREATED:20250409T134107Z
LAST-MODIFIED:20250409T134107Z
UID:1160-1749290400-1749312000@bermondsey.london
SUMMARY:Young Traders Market - June 2025
DESCRIPTION:The Blue Market and National Traders Markets Federation has teamed to host a series of Young Traders Market events in Bermondsey. This is an opportunity to visit the stalls of the new generation of market traders offering crafts\, food\, fashion and more. \nThis is an opportunity to discover unique products and a new generation of market traders. You will find a diversity of merchandise\,  from handmade crafts to street food\, while helping young traders grow their businesses. \nEnjoy a vibrant community atmosphere and be part of a project empowering young talent.Don’t miss the chance to shop\, connect and support the next generation of entrepreneurs at the Young Traders Market events. \nYoung Traders Market Dates\nRunning every first Saturday of the month from March to July at The Blue Market \n\nSaturday 7th June 2025\nSaturday 5th July 2025\n\nFree entry\, everyone welcome! \nOpportunity to trade\nAre you a young trader aged 16-30 years old? Interested in taking part and get free pitch and gazebo? Visit our website to apply: \nYoung Traders Market 2025
URL:https://bermondsey.london/event/young-traders-market-june-2025/
LOCATION:The Blue Market\, Market Place\, London\, SE16 3UQ\, United Kingdom
CATEGORIES:Market
ATTACH;FMTTYPE=image/jpeg:https://bermondsey.london/wp-content/uploads/2025/02/Young-Traders-Market-2025-Southwark-Presents-Banner.jpg
ORGANIZER;CN="The Blue Market":MAILTO:info@thebluemarket.co.uk
END:VEVENT
BEGIN:VEVENT
DTSTART;TZID=Europe/London:20250606T120000
DTEND;TZID=Europe/London:20250608T180000
DTSTAMP:20260421T000612
CREATED:20250528T142251Z
LAST-MODIFIED:20250528T142251Z
UID:1439-1749211200-1749405600@bermondsey.london
SUMMARY:Drawing Exhibition 2025 – Coleman Projects
DESCRIPTION:Coleman Project Space is delighted to announce the gallery’s first annual drawing exhibition\, which brings together six contemporary artists whose work repositions drawing as an expanded multidisciplinary field. \nHeavenly Skeletons is a dynamic investigation of how drawing translates abstract concepts into tangible form – how it becomes a reflection of reality\, a method of thought\, and an intentional act of making \nThe selected artists engage with drawing as a form of material thinking – spatial\, physical\, and reflexive. Their approaches are materially diverse\, rooted in traditional mark-making as well as sculpture\, time-based media\, and installation. Yet all share a sensibility to drawing as a live\, responsive\, and often urgent creative act\, driven by the larger questions the artists are exploring in their individual practices\, where drawing is neither sketch nor scaffold; it is the thing itself – reconfigured\, looped and performed.
URL:https://bermondsey.london/event/drawing-exhibition-2025-coleman-projects-2/
LOCATION:Coleman Gallery\, 94 Webster Rd\, SE16 4DF\, United Kingdom
CATEGORIES:Bermondsey Cultural Events
ATTACH;FMTTYPE=image/jpeg:https://bermondsey.london/wp-content/uploads/2025/05/275167905_482466420092050_5994813161427300681_n.jpeg
END:VEVENT
BEGIN:VEVENT
DTSTART;TZID=Europe/London:20250531T120000
DTEND;TZID=Europe/London:20250601T180000
DTSTAMP:20260421T000612
CREATED:20250528T141305Z
LAST-MODIFIED:20250528T141502Z
UID:1428-1748692800-1748800800@bermondsey.london
SUMMARY:Drawing Exhibition 2025 - Coleman Projects
DESCRIPTION:Coleman Project Space is delighted to announce the gallery’s first annual drawing exhibition\, which brings together six contemporary artists whose work repositions drawing as an expanded multidisciplinary field. \nHeavenly Skeletons is a dynamic investigation of how drawing translates abstract concepts into tangible form – how it becomes a reflection of reality\, a method of thought\, and an intentional act of making \nThe selected artists engage with drawing as a form of material thinking – spatial\, physical\, and reflexive. Their approaches are materially diverse\, rooted in traditional mark-making as well as sculpture\, time-based media\, and installation. Yet all share a sensibility to drawing as a live\, responsive\, and often urgent creative act\, driven by the larger questions the artists are exploring in their individual practices\, where drawing is neither sketch nor scaffold; it is the thing itself – reconfigured\, looped and performed.
URL:https://bermondsey.london/event/drawing-exhibition-2025-coleman-projects/
LOCATION:Coleman Gallery\, 94 Webster Rd\, SE16 4DF\, United Kingdom
CATEGORIES:Bermondsey Cultural Events
ATTACH;FMTTYPE=image/webp:https://bermondsey.london/wp-content/uploads/2025/05/AngelaEames.webp
END:VEVENT
BEGIN:VEVENT
DTSTART;TZID=Europe/London:20250531T100000
DTEND;TZID=Europe/London:20250531T170000
DTSTAMP:20260421T000612
CREATED:20250423T110012Z
LAST-MODIFIED:20250522T090454Z
UID:1270-1748685600-1748710800@bermondsey.london
SUMMARY:Bermondsey Latino 31th May
DESCRIPTION:Bermondsey Latino is a vibrant outdoor market celebrating the food\, crafts\, dance\, and community spirit of Latin America – right in the heart of Bermondsey. A free\, family-friendly event filled with colour\, music\, and culture for everyone to enjoy. \nBermondsey Latino returns to The Blue Market for a joyful day of Latin American food\, crafts\, and culture. \nThis vibrant outdoor market showcases the best of Latin America with delicious street food from across the continent\, unique handcrafted gifts\, and live dance performances that bring the square to life. \nBermondsey Latino is more than a market – it’s a celebration of community\, culture\, and creativity\, offering something for everyone. Whether you’re a food lover\, music fan\, or looking for a fun family day out\, you’ll find it here. \n✨ Free family workshop\n🎶 Live Latin music and traditional dance performances throughout the day\n🌮 Authentic street food from Latin American countries\n🧵 Beautiful handmade crafts and textiles\n👨‍👩‍👧‍👦 A welcoming\, family-friendly atmosphere\n🎟️ Entry is completely free – all are welcome! \nThis event is hosted in partnership with Big Local Works as part of ongoing community-led activities at The Blue Market\, creating a space where culture and people come together. \nCome for the food\, stay for the culture – and be part of something special. ¡Nos vemos allí
URL:https://bermondsey.london/event/bermondsey-latino-2/
LOCATION:The Blue Market\, Market Place\, London\, SE16 3UQ\, United Kingdom
CATEGORIES:Market
ATTACH;FMTTYPE=image/jpeg:https://bermondsey.london/wp-content/uploads/2025/04/bermondsey-latino-31-May.jpg
ORGANIZER;CN="The Blue Market":MAILTO:info@thebluemarket.co.uk
END:VEVENT
BEGIN:VEVENT
DTSTART;TZID=Europe/London:20250524T123000
DTEND;TZID=Europe/London:20250524T163000
DTSTAMP:20260421T000612
CREATED:20250424T125345Z
LAST-MODIFIED:20250424T130041Z
UID:1278-1748089800-1748104200@bermondsey.london
SUMMARY:Let's Make Music and Dance
DESCRIPTION:🎶 Let’s Make Music & Dance – End of Summer Gala 💃Saturday 24th May\, 2025 | 12:30 PM – 4:00 PMThe Blue Market\, BermondseyFREE ENTRY – ALL WELCOME! \nCelebrate the season with a joyful afternoon of live music\, salsa dancing\, and family fun at Let’s Make Music & Dance – End of Summer Gala\, a vibrant community event hosted by UMAT. \n🌟 What to Expect: \n\n\nLive performances from a vocal ensemble and guitar vocalist \n\n\nLively salsa dancing to get everyone moving \n\n\nClassic fairground games including Hook-a-Duck\, Tin Can Alley\, Hoopla\, and more – brought to you by Frog Morris & Paul Wady \n\n\nA family-friendly atmosphere packed with energy and creativity \n\n\nBring your friends\, family\, and dancing shoes – we’ll see you at The Blue Market! \n\n💬 About UMAT\nFounded in 2018 by vocalist Stephen Pierre\, UMAT (Urban Music & Arts Trust CIC) is a grassroots\, not-for-profit community music group based in London. UMAT champions the work of emerging and established musicians\, promotes equality and diversity\, and creates inclusive cultural experiences. \n🏆 Recognized for its impact\, UMAT has been nominated for a Mayor of London Culture and Creative Award\, and was honored with a Southwark Business Excellence Award for its contribution to the community. \n✨ From Bermondsey Square Jazz Days to standout performances at Victoria Park’s Palm Tree Pub\, UMAT continues to bring music\, community\, and joy together across London. \n🔗 More info: www.umat.org.uk
URL:https://bermondsey.london/event/lets-make-music-and-dance/
LOCATION:The Blue Market\, Market Place\, London\, SE16 3UQ\, United Kingdom
CATEGORIES:Bermondsey Cultural Events
ATTACH;FMTTYPE=image/jpeg:https://bermondsey.london/wp-content/uploads/2025/04/Lets-Make-Music-and-Dance.jpg
END:VEVENT
BEGIN:VEVENT
DTSTART;TZID=Europe/London:20250503T100000
DTEND;TZID=Europe/London:20250503T160000
DTSTAMP:20260421T000612
CREATED:20250409T131239Z
LAST-MODIFIED:20250409T131239Z
UID:1150-1746266400-1746288000@bermondsey.london
SUMMARY:Young Traders Market - May 2025
DESCRIPTION:The Blue Market and National Traders Markets Federation has teamed to host a series of Young Traders Market events in Bermondsey. This is an opportunity to visit the stalls of the new generation of market traders offering crafts\, food\, fashion and more. \nThis is an opportunity to discover unique products and a new generation of market traders. You will find a diversity of merchandise\,  from handmade crafts to street food\, while helping young traders grow their businesses. \nEnjoy a vibrant community atmosphere and be part of a project empowering young talent.Don’t miss the chance to shop\, connect and support the next generation of entrepreneurs at the Young Traders Market events. \nYoung Traders Market Dates\nRunning every first Saturday of the month from March to July at The Blue Market \n\nSaturday 3rd May 2025\nSaturday 7th June 2025\nSaturday 5th July 2025\n\nFree entry\, everyone welcome! \nOpportunity to trade\nAre you a young trader aged 16-30 years old? Interested in taking part and get free pitch and gazebo? Visit our website to apply: \nYoung Traders Market 2025
URL:https://bermondsey.london/event/young-traders-market-may-2025/
LOCATION:The Blue Market\, Market Place\, London\, SE16 3UQ\, United Kingdom
CATEGORIES:Market
ATTACH;FMTTYPE=image/jpeg:https://bermondsey.london/wp-content/uploads/2025/02/Young-Traders-Market-2025-Southwark-Presents-Banner.jpg
ORGANIZER;CN="The Blue Market":MAILTO:info@thebluemarket.co.uk
END:VEVENT
BEGIN:VEVENT
DTSTART;TZID=Europe/London:20250426T100000
DTEND;TZID=Europe/London:20250426T170000
DTSTAMP:20260421T000612
CREATED:20250423T105248Z
LAST-MODIFIED:20250423T105248Z
UID:1267-1745661600-1745686800@bermondsey.london
SUMMARY:Bermondsey Latino
DESCRIPTION:Bermondsey Latino is a vibrant outdoor market celebrating the food\, crafts\, dance\, and community spirit of Latin America – right in the heart of Bermondsey. A free\, family-friendly event filled with colour\, music\, and culture for everyone to enjoy. \nBermondsey Latino returns to The Blue Market for a joyful day of Latin American food\, crafts\, and culture. \nThis vibrant outdoor market showcases the best of Latin America with delicious street food from across the continent\, unique handcrafted gifts\, and live dance performances that bring the square to life. \nBermondsey Latino is more than a market – it’s a celebration of community\, culture\, and creativity\, offering something for everyone. Whether you’re a food lover\, music fan\, or looking for a fun family day out\, you’ll find it here. \n✨ Free family workshop\n🎶 Live Latin music and traditional dance performances throughout the day\n🌮 Authentic street food from Latin American countries\n🧵 Beautiful handmade crafts and textiles\n👨‍👩‍👧‍👦 A welcoming\, family-friendly atmosphere\n🎟️ Entry is completely free – all are welcome! \nThis event is hosted in partnership with Big Local Works as part of ongoing community-led activities at The Blue Market\, creating a space where culture and people come together. \nCome for the food\, stay for the culture – and be part of something special. ¡Nos vemos allí
URL:https://bermondsey.london/event/bermondsey-latino/
LOCATION:The Blue Market\, Market Place\, London\, SE16 3UQ\, United Kingdom
ATTACH;FMTTYPE=image/jpeg:https://bermondsey.london/wp-content/uploads/2025/04/bermondsey-latino-website-banner-2.jpg
ORGANIZER;CN="The Blue Market":MAILTO:info@thebluemarket.co.uk
END:VEVENT
BEGIN:VEVENT
DTSTART;TZID=Europe/London:20250322T123000
DTEND;TZID=Europe/London:20250322T150000
DTSTAMP:20260421T000612
CREATED:20250225T140545Z
LAST-MODIFIED:20250225T140545Z
UID:950-1742646600-1742655600@bermondsey.london
SUMMARY:Experience Castellers of London in Bermondsey
DESCRIPTION:Save the date for an unforgettable experience at The Blue Market in Bermondsey as we welcome back the cherished Castellers of London on Saturday\, March 22\, 2025! This free event invites everyone to dive into the fascinating tradition of building Castells\, a remarkable aspect of Catalan culture. Bring your family and friends for a day filled with shopping\, food and drink stalls\, and complimentary community activities. Don’t miss this exceptional opportunity to immerse yourself in Catalan culture right in the heart of Bermondsey!\n\n \n\nExperience the Stunning Castells Performance on the Day\n\n \n\nMake sure to witness the breathtaking display of Castells\, where the skilled Castellers of London will present their remarkable ‘human tower’ performance. This is a unique opportunity to see a tradition that has been around for over 200 years\, with the Castellers of London proudly promoting and performing this art form in the city since 2015. Having established their training base in Bermondsey\, they have previously dazzled audiences at The Blue\, and this event is sure to be just as exhilarating!\n\n \nJoin Us for Workshops and Cultural Learning\n \n\nThis event is not just about watching; it’s also an opportunity to learn! Participate in workshops to practice building Castells and deepen your understanding of this fascinating tradition and Catalan culture.\n\n \n\nThis event is a fantastic opportunity to explore the captivating world of Castells and Catalan culture in Bermondsey. Join us for hands-on workshops where you can try your hand at building these impressive human towers\, just like the enthusiastic participant in this photo and learn about the activities of Castellers of London! Plus\, enjoy a variety of free community activities that promise fun for all ages.
URL:https://bermondsey.london/event/experience-castellers-of-london-in-bermondsey/
LOCATION:The Blue Market\, Market Place\, London\, SE16 3UQ\, United Kingdom
ATTACH;FMTTYPE=image/png:https://bermondsey.london/wp-content/uploads/2025/02/castellers-of-London-100x700px.png
END:VEVENT
BEGIN:VEVENT
DTSTART;TZID=Europe/London:20250301T100000
DTEND;TZID=Europe/London:20250301T160000
DTSTAMP:20260421T000612
CREATED:20250225T141400Z
LAST-MODIFIED:20250225T141400Z
UID:962-1740823200-1740844800@bermondsey.london
SUMMARY:Young Traders Market on Saturdays
DESCRIPTION:The Blue Market and National Traders Markets Federation has teamed to host a series of Young Traders Market events in Bermondsey. This is an opportunity to visit the stalls of the new generation of market traders offering crafts\, food\, fashion and more. \nThis is an opportunity to discover unique products and a new generation of market traders. You will find a diversity of merchandise\,  from handmade crafts to street food\, while helping young traders grow their businesses. \nEnjoy a vibrant community atmosphere and be part of a project empowering young talent.Don’t miss the chance to shop\, connect and support the next generation of entrepreneurs at the Young Traders Market events. \nYoung Traders Market Dates\nRunning every first Saturday of the month from March to July at The Blue Market \n\nSaturday 1st March 2025\nSaturday 5th April 2025\nSaturday 3rd May 2025\nSaturday 7th June 2025\nSaturday 5th July 2025\n\nFree entry\, everyone welcome! \nOpportunity to trade\nAre you a young trader aged 16-30 years old? Interested in taking part and get free pitch and gazebo? Visit our website to apply: \nYoung Traders Market 2025
URL:https://bermondsey.london/event/young-traders-market-on-saturdays/
LOCATION:The Blue Market\, Market Place\, London\, SE16 3UQ\, United Kingdom
ATTACH;FMTTYPE=image/jpeg:https://bermondsey.london/wp-content/uploads/2025/02/Young-Traders-Market-2025-Southwark-Presents-Banner.jpg
ORGANIZER;CN="The Blue Market":MAILTO:info@thebluemarket.co.uk
END:VEVENT
BEGIN:VEVENT
DTSTART;TZID=Europe/London:20241207T120000
DTEND;TZID=Europe/London:20241207T160000
DTSTAMP:20260421T000612
CREATED:20250417T113858Z
LAST-MODIFIED:20250417T113858Z
UID:1219-1733572800-1733587200@bermondsey.london
SUMMARY:Bermondsey Winter Fair 2024
DESCRIPTION:Come and celebrate the festive season at The Blue Market Place with a day of fun\, free seasonal activities for all ages! From 12pm to 4pm\, enjoy Christmas carols\, street performers\, wreath-making\, party games\, Christmas shopping\, and more. It’s a joyful day for the whole community—everyone’s welcome! \nAbout the Winter FairThe Blue Winter Fair is a much-loved annual event that kicks off December with festive cheer while supporting our fantastic local shops and businesses. Organised by Blue Bermondsey BID\, a non-profit network championing the local business community\, the fair brings everyone together for a day of celebration. \nThis year\, we’re excited to be teaming up with Rouel Road TRA to host a free Christmas Party for residents. We’re also partnering with Big Local Works and ReLondon to launch ‘Greening the Blue’\, a new addition featuring fun\, family-friendly environmental activities. \nExpect the return of much-loved favourites like the Custard Storm Circus\, roaming Father Christmas\, wreath-making with our Art Elves\, and heart-warming performances by choirs from St. James Church and Boutcher Primary School.
URL:https://bermondsey.london/event/bermondsey-winter-fair-2024/
LOCATION:The Blue Market\, Market Place\, London\, SE16 3UQ\, United Kingdom
CATEGORIES:Bermondsey Cultural Events
ATTACH;FMTTYPE=image/png:https://bermondsey.london/wp-content/uploads/2025/04/Winter-fair-2024-eventbrite.png
END:VEVENT
BEGIN:VEVENT
DTSTART;TZID=Europe/London:20241026T120000
DTEND;TZID=Europe/London:20241026T150000
DTSTAMP:20260421T000612
CREATED:20241020T100834Z
LAST-MODIFIED:20250417T101354Z
UID:1192-1729944000-1729954800@bermondsey.london
SUMMARY:Halloween Bermondsey\, spook-tacular!
DESCRIPTION:Celebrate Halloween in The Blue – Saturday\, 26th October 2024Join us for a spook-tacular afternoon at The Blue Market from 12 noon to 3pm! \nGet into the Halloween spirit with an afternoon of free\, fun-filled family activities for all ages. Mark your calendars and come along for a day bursting with festive creativity and spooky surprises! \n\n🎃 Free Halloween Pumpkin Carving WorkshopBring the whole family to our Halloween-themed market stall for a hands-on pumpkin carving experience! Each family can choose a pumpkin to turn into their very own Jack-o’-Lantern masterpiece. Our friendly artists will be there to help every step of the way – perfect for all ages\, even the littlest ghouls. \nPlease note: One pumpkin per family\, while stocks last! \n\n🎨 Free Face PaintingComplete your Halloween look with a visit to our face painting station! Our talented face painters will transform you into your favourite Halloween character – from spooky skeletons and witches to adorable pumpkins and more. It’s fun\, it’s festive\, and it’s completely free! \n\nCome dressed in your best costume and join us for a frightfully good time at The Blue Market!
URL:https://bermondsey.london/event/halloween-bermondsey-spook-tacular/
LOCATION:The Blue Market\, Market Place\, London\, SE16 3UQ\, United Kingdom
CATEGORIES:Bermondsey Cultural Events,Market
ATTACH;FMTTYPE=image/jpeg:https://bermondsey.london/wp-content/uploads/2025/04/Halloween-in-the-blue.jpg
ORGANIZER;CN="Blue Bermondsey":MAILTO:media@bluebermondsey.co.uk
END:VEVENT
END:VCALENDAR