BEGIN:VCALENDAR
VERSION:2.0
PRODID:-//BERMONDSEY.LONDON - ECPv6.15.20//NONSGML v1.0//EN
CALSCALE:GREGORIAN
METHOD:PUBLISH
X-WR-CALNAME:BERMONDSEY.LONDON
X-ORIGINAL-URL:https://bermondsey.london
X-WR-CALDESC:Events for BERMONDSEY.LONDON
REFRESH-INTERVAL;VALUE=DURATION:PT1H
X-Robots-Tag:noindex
X-PUBLISHED-TTL:PT1H
BEGIN:VTIMEZONE
TZID:Europe/London
BEGIN:DAYLIGHT
TZOFFSETFROM:+0000
TZOFFSETTO:+0100
TZNAME:BST
DTSTART:20250330T010000
END:DAYLIGHT
BEGIN:STANDARD
TZOFFSETFROM:+0100
TZOFFSETTO:+0000
TZNAME:GMT
DTSTART:20251026T010000
END:STANDARD
BEGIN:DAYLIGHT
TZOFFSETFROM:+0000
TZOFFSETTO:+0100
TZNAME:BST
DTSTART:20260329T010000
END:DAYLIGHT
BEGIN:STANDARD
TZOFFSETFROM:+0100
TZOFFSETTO:+0000
TZNAME:GMT
DTSTART:20261025T010000
END:STANDARD
BEGIN:DAYLIGHT
TZOFFSETFROM:+0000
TZOFFSETTO:+0100
TZNAME:BST
DTSTART:20270328T010000
END:DAYLIGHT
BEGIN:STANDARD
TZOFFSETFROM:+0100
TZOFFSETTO:+0000
TZNAME:GMT
DTSTART:20271031T010000
END:STANDARD
END:VTIMEZONE
BEGIN:VEVENT
DTSTART;TZID=Europe/London:20260718T110000
DTEND;TZID=Europe/London:20260718T170000
DTSTAMP:20260421T083752
CREATED:20260414T104114Z
LAST-MODIFIED:20260414T104114Z
UID:3041-1784372400-1784394000@bermondsey.london
SUMMARY:Bermondset Latino
DESCRIPTION:Get ready for two unforgettable Saturdays filled with the energy\, warmth and celebration of Latin America right in the heart of Bermondsey. More than a market\, Bermondsey Latino is a lively cultural experience where the whole community can come together to enjoy the spirit\, flavours and creativity of Latin America in a welcoming pedestrianised square. \nExpect a joyful day packed with delicious discoveries\, colourful stalls\, live performances and free family workshops with activities for all ages – the perfect way to spend a Saturday with friends and family in South London. \nThere will also be live performances and free family workshops with activities for all ages\, creating a festive atmosphere where music\, dance and creativity bring everyone together. \nIt’s free\, it’s local\, and it’s full of corazón. Don’t miss the return of Bermondsey’s favourite cultural market! \nFOOD AND DRINK STALLS \nBermondsey Latino is a colourful celebration of Latin American culture taking place at The Blue Market. Enjoy authentic Latin street food\, live music\, dance\, and community stalls from across Latin America. \nWe highlight the cuisine and culture of a different country – from Colombian arepas and coffee to Mexican tacos and Peruvian empanadas\, this is a place to let your tastebuds explore the bold\, rich flavours of the Latin American continent. Expect upbeat music\, live dance performances\, workshops\, friendly vibes\, and a family-friendly atmosphere. \nCome hungry and curious – discover something new\, support local traders\, and be part of this growing cultural event in the heart of Bermondsey. \nART AND CRAFTS WORKSHOPS \nMake your own musical instruments and join in with the perfromances! \nLIVE PERFORMANCES \nMusic and Dance from 12 noon
URL:https://bermondsey.london/event/bermondset-latino/
LOCATION:The Blue Market\, Market Place\, London\, SE16 3UQ\, United Kingdom
ATTACH;FMTTYPE=image/jpeg:https://bermondsey.london/wp-content/uploads/2026/04/Bermondsey-Latino-16August25-19.jpeg
END:VEVENT
BEGIN:VEVENT
DTSTART;TZID=Europe/London:20260829T110000
DTEND;TZID=Europe/London:20260829T160000
DTSTAMP:20260421T083752
CREATED:20260202T121456Z
LAST-MODIFIED:20260202T121456Z
UID:2489-1788001200-1788019200@bermondsey.london
SUMMARY:Brotherhood Games TCG
DESCRIPTION:
URL:https://bermondsey.london/event/brotherhood-games-tcg/
LOCATION:The Blue Market\, Market Place\, London\, SE16 3UQ\, United Kingdom
CATEGORIES:Bermondsey Events,Market
END:VEVENT
BEGIN:VEVENT
DTSTART;TZID=Europe/London:20260831T120000
DTEND;TZID=Europe/London:20260831T200000
DTSTAMP:20260421T083752
CREATED:20260202T121654Z
LAST-MODIFIED:20260202T121654Z
UID:2491-1788177600-1788206400@bermondsey.london
SUMMARY:Bermondsey Carnival
DESCRIPTION:
URL:https://bermondsey.london/event/bermondsey-carnival/
LOCATION:Southwark Park\, SE16 2TX
CATEGORIES:Bermondsey Cultural Events,Bermondsey Events
END:VEVENT
BEGIN:VEVENT
DTSTART;TZID=Europe/London:20261031T120000
DTEND;TZID=Europe/London:20261031T150000
DTSTAMP:20260421T083752
CREATED:20260202T122355Z
LAST-MODIFIED:20260414T090731Z
UID:2493-1793448000-1793458800@bermondsey.london
SUMMARY:Halloween In The Blue
DESCRIPTION:
URL:https://bermondsey.london/event/halloween-in-the-blue/
LOCATION:The Blue Market\, Market Place\, London\, SE16 3UQ\, United Kingdom
CATEGORIES:Art,Bermondsey Events
ATTACH;FMTTYPE=image/jpeg:https://bermondsey.london/wp-content/uploads/2026/02/pumpkins-1-1.jpeg
END:VEVENT
BEGIN:VEVENT
DTSTART;TZID=Europe/London:20261120T170000
DTEND;TZID=Europe/London:20261120T190000
DTSTAMP:20260421T083752
CREATED:20260202T122524Z
LAST-MODIFIED:20260202T122555Z
UID:2495-1795194000-1795201200@bermondsey.london
SUMMARY:Illuminate Bermondsey Procession
DESCRIPTION:
URL:https://bermondsey.london/event/illuminate-bermondsey-procession/
LOCATION:The Blue Market\, Market Place\, London\, SE16 3UQ\, United Kingdom
CATEGORIES:Art,Bermondsey Cultural Events,Bermondsey Events
END:VEVENT
END:VCALENDAR