BEGIN:VCALENDAR
VERSION:2.0
PRODID:-//BERMONDSEY.LONDON - ECPv6.15.20//NONSGML v1.0//EN
CALSCALE:GREGORIAN
METHOD:PUBLISH
X-ORIGINAL-URL:https://bermondsey.london
X-WR-CALDESC:Events for BERMONDSEY.LONDON
REFRESH-INTERVAL;VALUE=DURATION:PT1H
X-Robots-Tag:noindex
X-PUBLISHED-TTL:PT1H
BEGIN:VTIMEZONE
TZID:Europe/London
BEGIN:DAYLIGHT
TZOFFSETFROM:+0000
TZOFFSETTO:+0100
TZNAME:BST
DTSTART:20250330T010000
END:DAYLIGHT
BEGIN:STANDARD
TZOFFSETFROM:+0100
TZOFFSETTO:+0000
TZNAME:GMT
DTSTART:20251026T010000
END:STANDARD
BEGIN:DAYLIGHT
TZOFFSETFROM:+0000
TZOFFSETTO:+0100
TZNAME:BST
DTSTART:20260329T010000
END:DAYLIGHT
BEGIN:STANDARD
TZOFFSETFROM:+0100
TZOFFSETTO:+0000
TZNAME:GMT
DTSTART:20261025T010000
END:STANDARD
BEGIN:DAYLIGHT
TZOFFSETFROM:+0000
TZOFFSETTO:+0100
TZNAME:BST
DTSTART:20270328T010000
END:DAYLIGHT
BEGIN:STANDARD
TZOFFSETFROM:+0100
TZOFFSETTO:+0000
TZNAME:GMT
DTSTART:20271031T010000
END:STANDARD
END:VTIMEZONE
BEGIN:VEVENT
DTSTART;TZID=Europe/London:20260618T080000
DTEND;TZID=Europe/London:20260628T170000
DTSTAMP:20260422T230216
CREATED:20250919T125759Z
LAST-MODIFIED:20260414T104415Z
UID:1825-1781769600-1782666000@bermondsey.london
SUMMARY:Literary Festival Bermondsey & Beyond 2026
DESCRIPTION:Bermondsey Literary Festival is a free community-led event that’s all about showcasing local talent and voices through literature. It’s a great chance to come together\, celebrate\, and support each other! With a variety of activities for everyone\, it’s the perfect chance to celebrate literature and the amazing talent in our community.
URL:https://bermondsey.london/event/literary-festival-bermondsey-beyond-2026/
LOCATION:The Blue Market\, Market Place\, London\, SE16 3UQ\, United Kingdom
CATEGORIES:Bermondsey Cultural Events,Bermondsey Events,Events in South London
ATTACH;FMTTYPE=image/png:https://bermondsey.london/wp-content/uploads/2025/09/Literary-Festival-Banner.png
END:VEVENT
END:VCALENDAR