BEGIN:VCALENDAR
VERSION:2.0
PRODID:-//BERMONDSEY.LONDON - ECPv6.15.20//NONSGML v1.0//EN
CALSCALE:GREGORIAN
METHOD:PUBLISH
X-ORIGINAL-URL:https://bermondsey.london
X-WR-CALDESC:Events for BERMONDSEY.LONDON
REFRESH-INTERVAL;VALUE=DURATION:PT1H
X-Robots-Tag:noindex
X-PUBLISHED-TTL:PT1H
BEGIN:VTIMEZONE
TZID:Europe/London
BEGIN:DAYLIGHT
TZOFFSETFROM:+0000
TZOFFSETTO:+0100
TZNAME:BST
DTSTART:20250330T010000
END:DAYLIGHT
BEGIN:STANDARD
TZOFFSETFROM:+0100
TZOFFSETTO:+0000
TZNAME:GMT
DTSTART:20251026T010000
END:STANDARD
BEGIN:DAYLIGHT
TZOFFSETFROM:+0000
TZOFFSETTO:+0100
TZNAME:BST
DTSTART:20260329T010000
END:DAYLIGHT
BEGIN:STANDARD
TZOFFSETFROM:+0100
TZOFFSETTO:+0000
TZNAME:GMT
DTSTART:20261025T010000
END:STANDARD
BEGIN:DAYLIGHT
TZOFFSETFROM:+0000
TZOFFSETTO:+0100
TZNAME:BST
DTSTART:20270328T010000
END:DAYLIGHT
BEGIN:STANDARD
TZOFFSETFROM:+0100
TZOFFSETTO:+0000
TZNAME:GMT
DTSTART:20271031T010000
END:STANDARD
END:VTIMEZONE
BEGIN:VEVENT
DTSTART;TZID=Europe/London:20260620T100000
DTEND;TZID=Europe/London:20260620T130000
DTSTAMP:20260423T023426
CREATED:20260413T101717Z
LAST-MODIFIED:20260414T094643Z
UID:2926-1781949600-1781960400@bermondsey.london
SUMMARY:Bermondsey Puppetry and Storytelling Festival: Free Storytelling at London Bubble
DESCRIPTION:Free family storytelling sessions with Laura Sampson. Venture into the forests of the world and get ready for our grand finale celebration in Bermondsey Spa Gardens on 12th July. In association with Bermondsey Literary Festival 2026. \nSuitable for ages 3-10 and their families. \nStorytimes: 10.45 and 11.45 \nLaura Sampson is a British-Trinidadian storyteller & writer. She loves to tell stories of big emotions\, surreal situations\, & misunderstood old ladies. She has worked with V&A\, Young V&A\, Discover Children’s Story Centre\, National Trust and many more. She is author of two collections\, Enchanted Tales (2023) & Mythical Tales (Sept 2025) published by Templar Books. https://www.laurasampson.com/ \n \n \n 
URL:https://bermondsey.london/event/bermondsey-puppetry-and-storytelling-festival-free-workshop-london-bubble/
LOCATION:London Bubble\, - 5 Elephant Lane\,\, London\, SE16 4JD
CATEGORIES:Art,Bermondsey Cultural Events,Bermondsey Events
ATTACH;FMTTYPE=image/png:https://bermondsey.london/wp-content/uploads/2026/04/Laura-Sampson-BPSF.png
END:VEVENT
END:VCALENDAR