BEGIN:VCALENDAR
VERSION:2.0
PRODID:-//BERMONDSEY.LONDON - ECPv6.15.20//NONSGML v1.0//EN
CALSCALE:GREGORIAN
METHOD:PUBLISH
X-WR-CALNAME:BERMONDSEY.LONDON
X-ORIGINAL-URL:https://bermondsey.london
X-WR-CALDESC:Events for BERMONDSEY.LONDON
REFRESH-INTERVAL;VALUE=DURATION:PT1H
X-Robots-Tag:noindex
X-PUBLISHED-TTL:PT1H
BEGIN:VTIMEZONE
TZID:Europe/London
BEGIN:DAYLIGHT
TZOFFSETFROM:+0000
TZOFFSETTO:+0100
TZNAME:BST
DTSTART:20250330T010000
END:DAYLIGHT
BEGIN:STANDARD
TZOFFSETFROM:+0100
TZOFFSETTO:+0000
TZNAME:GMT
DTSTART:20251026T010000
END:STANDARD
BEGIN:DAYLIGHT
TZOFFSETFROM:+0000
TZOFFSETTO:+0100
TZNAME:BST
DTSTART:20260329T010000
END:DAYLIGHT
BEGIN:STANDARD
TZOFFSETFROM:+0100
TZOFFSETTO:+0000
TZNAME:GMT
DTSTART:20261025T010000
END:STANDARD
BEGIN:DAYLIGHT
TZOFFSETFROM:+0000
TZOFFSETTO:+0100
TZNAME:BST
DTSTART:20270328T010000
END:DAYLIGHT
BEGIN:STANDARD
TZOFFSETFROM:+0100
TZOFFSETTO:+0000
TZNAME:GMT
DTSTART:20271031T010000
END:STANDARD
END:VTIMEZONE
BEGIN:VEVENT
DTSTART;TZID=Europe/London:20260523T120000
DTEND;TZID=Europe/London:20260523T150000
DTSTAMP:20260420T181752
CREATED:20260413T091914Z
LAST-MODIFIED:20260415T102206Z
UID:2905-1779537600-1779548400@bermondsey.london
SUMMARY:Puppet and Storytelling Festival: Free Storytelling and Puppet Making
DESCRIPTION:Free family drop-in craft with storytelling. Listen to an Anansi with Storyteller Baden Prince Jr then create your own tiger puppet and find out how to bring it to life! \nFamilies can make their own fearsome Big Cat hand puppet with Frog Morris to bring to our finale event on 12 July. All materials are provided. \nStorytelling is suitable for all ages and lasts 20 minutes.  Storytimes: 12.30\, 1.30and 2.30 \nReserve a spot \nAll puppets made at this event can be used at at our grand finale celebration in Bermondsey Spa Gardens on 12th July. Put the date in your diary! \nBaden Prince Jnr\nBaden Prince Jnr is a dynamic poet\, performer and storyteller with decades of experience in live literature and an impressive reputation. His repertoire incorporates “traditional” tales from the Caribbean and all over the world\, as well as original\, self-penned material. As a writer and performer Baden engages reader and audience with a style that is warm\, self-assured with an entertaining blend of insight and humour. https://antiguanherald.com/articles/2026/02/27/antiguan-born-poet-baden-prince-earns-honorary-literary-recognition-in-uk.html \nBermondsey Puppet & Storytelling Festival 2026\nA new family-friendly community festival is coming to Bermondsey in summer 2026. Bermondsey Puppet & Storytelling Festival will feature free puppetry and storytelling workshops across local schools\, community venues and public spaces\, leading to a lively outdoor celebration in Bermondsey Spa Gardens on Sunday 12 July\, 12–5pm. \nThe finale will showcase community-made puppets alongside headline performances from internationally renowned storytellers including Usifu Jalloh\, Emily Hanna\, Marrianna Portello and Bernadette Russell. All events are free and open to all ages. \nFind out more:\nhttps://bermondsey.london/events/puppet-storytelling-festival-2026-bermondsey/ \n  \n\nWhat to expect at the workshops\nFree public workshops will take place across local venues and outdoor spaces\, including sessions at The Blue Market and the finale in Bermondsey Spa Gardens. Led by professional storytellers and puppeteers\, these hands-on sessions invite people of all ages to create puppets\, share stories and learn the techniques that bring puppetry and storytelling to life. Participants can contribute ideas and creations towards the final community celebration. No experience is needed — just curiosity and imagination. Take home your creations and then bring them along to Bermondsey Spa Gardens on Sunday 12 July 12 – 5pm and join in with our finale show! \n\nFree drop-in workshop activity 12pm – 3pm\nFree storytelling performance : 12.30\, 1.30and 2.30\nAll ages welcome\nDisabled accessible\nSeating available\nMarket open with places to eat and drink nearby\n\nHow to get there?\nBy bus\n 1\, 381\, P12 \nBy train\n South Bermondsey\, Canada Water \nBy tube\nBermondsey \nBy car\nParking on St James Road (2 hour maximum). Free street parking available at weekends\, please check signs for local restrictions. \nAccessibility \nBlue Market is an outdoor space all on one level with wide entrances\, suitable for pushchair\, wheelchairs and mobility vehicles. Seating available. Disabled access toilets in Blue Anchor Library.
URL:https://bermondsey.london/event/puppet-and-storytelling-fest-free-workshop-2/
LOCATION:The Blue Market\, Market Place\, London\, SE16 3UQ\, United Kingdom
CATEGORIES:Art,Bermondsey Cultural Events,Bermondsey Events
ATTACH;FMTTYPE=image/png:https://bermondsey.london/wp-content/uploads/2026/04/Baden-Prince-Jr-BPSF.png
END:VEVENT
END:VCALENDAR